BEGIN:VCALENDAR
VERSION:2.0
PRODID:-//hacksw/handcal//NONSGML v1.0//EN
BEGIN:VEVENT
SUMMARY:3eme plot departemental des maitres
UID:48d64ab9-2320-4f6c-8c07-f4e535d115a2
DTSTART:20260529T220000Z
DTEND:20260530T220000Z
LOCATION:Localisation Piscine aquaval  Saint Brieuc
CATEGORIES:Sportif
STATUS:
DESCRIPTION:<p>
 <style type="text/css"><!--br
 {mso-data-placement:same-cell;}-->
 </style>
 </p>
 
 <table
 cellpadding="0" cellspacing="0" data-sheets-baot="1"
 data-sheets-root="1" dir="ltr"
 xmlns="http://www.w3.org/1999/xhtml">
 	<colgroup>
 		<col width="103"
 />
 		<col width="103" />
 		<col width="103" />
 		<col width="103"
 />
 		<col width="103" />
 		<col width="103"
 />
 	</colgroup>
 	<tbody>
 		<tr>
 			<td colspan="6"
 rowspan="1">Programme :</td>
 		</tr>
 		<tr>
 			<td colspan="6"
 rowspan="1">Un classement individuel dans chaque epreuve du programme
 par categorie.</td>
 		</tr>
 		<tr>
 			<td colspan="6" rowspan="1">Les
 relais seront nages toutes categories confondues avec un classement :
 Dames, Messieurs et</td>
 		</tr>
 		<tr>
 			<td colspan="6"
 rowspan="1">mixtes</td>
 		</tr>
 		<tr>
 			<td> </td>
 			<td> </td>
 			<td> </td>
 			<td> </td>
 			<td> </td>
 			<td> </td>
 		</tr>
 		<tr>
 			<td
 colspan="6" rowspan="1">Recompenses :</td>
 		</tr>
 		<tr>
 			<td
 colspan="6" rowspan="1">Medaille au 1er par categorie au cumul des
 deux meilleurs epreuves.</td>
 		</tr>
 		<tr>
 			<td colspan="6"
 rowspan="1">Une coupe aux premiers relais hommes, femmes et
 mixtes.</td>
 		</tr>
 		<tr>
 			<td colspan="6"
 rowspan="1"> </td>
 		</tr>
 		<tr>
 			<td colspan="3"
 rowspan="1"> </td>
 			<td> </td>
 			<td> </td>
 			<td> </td>
 		</tr>
 		<tr>
 			<td> </td>
 			<td> </td>
 			<td
 colspan="2" rowspan="1">Plot 3
 Maitre</td>
 			<td> </td>
 			<td> </td>
 		</tr>
 		<tr>
 			<td> </td>
 			<td> </td>
 			<td
 colspan="2" rowspan="1">Ouverture des portes :
 16h30</td>
 			<td> </td>
 			<td> </td>
 		</tr>
 		<tr>
 			<td> </td>
 			<td> </td>
 			<td
 colspan="2" rowspan="1">Debut des epreuves :
 17h15</td>
 			<td> </td>
 			<td> </td>
 		</tr>
 		<tr>
 			<td> </td>
 			<td> </td>
 			<td
 colspan="2" rowspan="1">4 X 50 Nage
 libre</td>
 			<td> </td>
 			<td> </td>
 		</tr>
 		<tr>
 			<td> </td>
 			<td> </td>
 			<td
 colspan="2" rowspan="1">800 Nage
 Libre</td>
 			<td> </td>
 			<td> </td>
 		</tr>
 		<tr>
 			<td> </td>
 			<td> </td>
 			<td
 colspan="2" rowspan="1">50
 Papillon</td>
 			<td> </td>
 			<td> </td>
 		</tr>
 		<tr>
 			<td> </td>
 			<td> </td>
 			<td
 colspan="2" rowspan="1">100
 Dos</td>
 			<td> </td>
 			<td> </td>
 		</tr>
 		<tr>
 			<td> </td>
 			<td> </td>
 			<td
 colspan="2" rowspan="1">200
 Brasse</td>
 			<td> </td>
 			<td> </td>
 		</tr>
 		<tr>
 			<td> </td>
 			<td> </td>
 			<td
 colspan="2" rowspan="1">200 Nage
 libre</td>
 			<td> </td>
 			<td> </td>
 		</tr>
 		<tr>
 			<td> </td>
 			<td> </td>
 			<td
 colspan="2" rowspan="1">50
 Brasse</td>
 			<td> </td>
 			<td> </td>
 		</tr>
 		<tr>
 			<td> </td>
 			<td> </td>
 			<td
 colspan="2" rowspan="1">100 Nage
 libre</td>
 			<td> </td>
 			<td> </td>
 		</tr>
 		<tr>
 			<td> </td>
 			<td> </td>
 			<td
 colspan="2" rowspan="1">100 4
 Nages</td>
 			<td> </td>
 			<td> </td>
 		</tr>
 		<tr>
 			<td> </td>
 			<td> </td>
 			<td
 colspan="2" rowspan="1">400 Nage
 libre</td>
 			<td> </td>
 			<td> </td>
 		</tr>
 		<tr>
 			<td> </td>
 			<td> </td>
 			<td
 colspan="2" rowspan="1">100
 Papillon</td>
 			<td> </td>
 			<td> </td>
 		</tr>
 		<tr>
 			<td> </td>
 			<td> </td>
 			<td
 colspan="2" rowspan="1">50
 Dos</td>
 			<td> </td>
 			<td> </td>
 		</tr>
 		<tr>
 			<td> </td>
 			<td> </td>
 			<td
 colspan="2" rowspan="1">200
 Papillon</td>
 			<td> </td>
 			<td> </td>
 		</tr>
 		<tr>
 			<td> </td>
 			<td> </td>
 			<td
 colspan="2" rowspan="1">200
 Dos</td>
 			<td> </td>
 			<td> </td>
 		</tr>
 		<tr>
 			<td> </td>
 			<td> </td>
 			<td
 colspan="2" rowspan="1">100
 Brasse</td>
 			<td> </td>
 			<td> </td>
 		</tr>
 		<tr>
 			<td> </td>
 			<td> </td>
 			<td
 colspan="2" rowspan="1">50 Nage
 libre</td>
 			<td> </td>
 			<td> </td>
 		</tr>
 		<tr>
 			<td> </td>
 			<td> </td>
 			<td
 colspan="2" rowspan="1">200 4
 Nages</td>
 			<td> </td>
 			<td> </td>
 		</tr>
 		<tr>
 			<td> </td>
 			<td> </td>
 			<td
 colspan="2" rowspan="1">4x50 4
 Nages</td>
 			<td> </td>
 			<td> </td>
 		</tr>
 	</tbody>
 </table>
 
 <p> </p>
 
 <p> </p>
 
 <p>engagements
 a transmettre <a
 href="https://docs.google.com/spreadsheets/d/1bhGmuJ_ci97WcT5QmJ_K0xkr9zbO1o9iALZ2aO5Jlws/edit?usp=sharing">ici
 </a>avant le 23/05</p>
URL;VALUE=URI:https://www.lannionnatation.com/evenements/2026/05/30/3eme-plot-departemental-des-maitres-2441784
END:VEVENT
END:VCALENDAR
