BEGIN:VCALENDAR
VERSION:2.0
PRODID:-//hacksw/handcal//NONSGML v1.0//EN
BEGIN:VEVENT
SUMMARY:Championnat Cotes d'Armor ete avenirs
UID:e6c89fdd-b3fc-412a-80d4-93afbcf34e56
DTSTART:20260606T220000Z
DTEND:20260607T220000Z
LOCATION:Localisation rue des olympiades  Lamballe
CATEGORIES:Sportif
STATUS:
DESCRIPTION:<p>
 <style type="text/css"><!--br
 {mso-data-placement:same-cell;}-->
 </style>
 </p>
 
 <table
 cellpadding="0" cellspacing="0" data-sheets-baot="1"
 data-sheets-root="1" dir="ltr"
 xmlns="http://www.w3.org/1999/xhtml">
 	<colgroup>
 		<col width="103"
 />
 		<col width="103" />
 		<col width="103" />
 		<col width="103"
 />
 		<col width="103" />
 		<col width="103"
 />
 	</colgroup>
 	<tbody>
 		<tr>
 			<td colspan="3"
 rowspan="1"> </td>
 			<td> </td>
 			<td> </td>
 			<td> </td>
 		</tr>
 		<tr>
 			<td
 colspan="6" rowspan="1">Categories :</td>
 		</tr>
 		<tr>
 			<td
 colspan="6" rowspan="1">U10-U11 (nes en 2015 et
 2016)</td>
 		</tr>
 		<tr>
 			<td colspan="6" rowspan="1">U9 (nes en
 2017)</td>
 		</tr>
 		<tr>
 			<td colspan="6" rowspan="1">U8 et - (nes
 en 2018 et
 apres)</td>
 		</tr>
 		<tr>
 			<td> </td>
 			<td> </td>
 			<td> </td>
 			<td> </td>
 			<td> </td>
 			<td> </td>
 		</tr>
 		<tr>
 			<td
 colspan="6" rowspan="1">Engagements :</td>
 		</tr>
 		<tr>
 			<td
 colspan="6" rowspan="1">fin des engagements le mercredi precedent la
 competition</td>
 		</tr>
 		<tr>
 			<td> </td>
 			<td> </td>
 			<td> </td>
 			<td> </td>
 			<td> </td>
 			<td> </td>
 		</tr>
 		<tr>
 			<td
 colspan="6" rowspan="1">Reglement :</td>
 		</tr>
 		<tr>
 			<td
 colspan="6" rowspan="1">2 epreuves maximums par nageur par reunion.
 Une grille de temps est disponible a titre indicatif.<br
 />
 			Maximum 3 series de 400 nage libre et 5 series de 200 nage
 libre<br />
 			1 equipe par relais et par club<br />
 			Les series du
 relais 6-10' est a l'initiative des entraineurs (ajustement possible
 en fonction de la duree et des conditions de la competition). La
 composition des equipes ets libre.</td>
 		</tr>
 		<tr>
 			<td
 colspan="6" rowspan="1"> </td>
 		</tr>
 		<tr>
 			<td colspan="6"
 rowspan="1">Recompenses :</td>
 		</tr>
 		<tr>
 			<td colspan="6"
 rowspan="1">Medailles par epreuves aux 3 premiers par categories(cf
 categorie ci-dessus)<br />
 			Recompense aux 3 premiers relais
 (dames, messieurs)</td>
 		</tr>
 		<tr>
 			<td colspan="5"
 rowspan="1">Mise en place des rubans de
 performance</td>
 			<td> </td>
 		</tr>
 		<tr>
 			<td> </td>
 			<td> </td>
 			<td> </td>
 			<td> </td>
 			<td> </td>
 			<td> </td>
 		</tr>
 		<tr>
 			<td> </td>
 			<td> </td>
 			<td> </td>
 			<td> </td>
 			<td> </td>
 			<td> </td>
 		</tr>
 		<tr>
 			<td> </td>
 			<td
 colspan="4" rowspan="1">Championnats Departementaux Ete U11 et
 -</td>
 			<td> </td>
 		</tr>
 		<tr>
 			<td> </td>
 			<td
 colspan="2" rowspan="1">Ouverture des portes : 8h30</td>
 			<td
 colspan="2" rowspan="1">Ouverture des portes :
 13h30</td>
 			<td> </td>
 		</tr>
 		<tr>
 			<td> </td>
 			<td
 colspan="2" rowspan="1">Debut de la competition : 9h30</td>
 			<td
 colspan="2" rowspan="1">Debut de la competition :
 14h30</td>
 			<td> </td>
 		</tr>
 		<tr>
 			<td> </td>
 			<td
 colspan="2" rowspan="1">400 nage libre</td>
 			<td colspan="2"
 rowspan="1">4x50 4 Nages Dames et
 messieurs</td>
 			<td> </td>
 		</tr>
 		<tr>
 			<td> </td>
 			<td
 colspan="2" rowspan="1">50 papillon</td>
 			<td colspan="2"
 rowspan="1">200 nage
 libre</td>
 			<td> </td>
 		</tr>
 		<tr>
 			<td> </td>
 			<td
 colspan="2" rowspan="1">50 brasse</td>
 			<td colspan="2"
 rowspan="1">100
 papillon</td>
 			<td> </td>
 		</tr>
 		<tr>
 			<td> </td>
 			<td
 colspan="2" rowspan="1">100 nage libre</td>
 			<td colspan="2"
 rowspan="1">100
 brasse</td>
 			<td> </td>
 		</tr>
 		<tr>
 			<td> </td>
 			<td
 colspan="2" rowspan="1">100 dos</td>
 			<td colspan="2"
 rowspan="1">100 4
 nages</td>
 			<td> </td>
 		</tr>
 		<tr>
 			<td> </td>
 			<td
 colspan="2" rowspan="1">200 4 nages</td>
 			<td colspan="2"
 rowspan="1">50
 dos</td>
 			<td> </td>
 		</tr>
 		<tr>
 			<td> </td>
 			<td> </td>
 			<td> </td>
 			<td
 colspan="2" rowspan="1">50 nage
 libre</td>
 			<td> </td>
 		</tr>
 		<tr>
 			<td> </td>
 			<td> </td>
 			<td> </td>
 			<td
 colspan="2" rowspan="1">6' a 10' nage
 libre</td>
 			<td> </td>
 		</tr>
 	</tbody>
 </table>
URL;VALUE=URI:https://www.lannionnatation.com/evenements/2026/06/07/championnat-cotes-darmor-ete-avenirs-2319261
END:VEVENT
END:VCALENDAR
