BEGIN:VCALENDAR
VERSION:2.0
PRODID:-//hacksw/handcal//NONSGML v1.0//EN
BEGIN:VEVENT
SUMMARY:Championnat de Bretagne ete U14 et +
UID:6b86e8e3-99af-4967-908f-1b231643fccc
DTSTART:20260618T220000Z
DTEND:20260621T220000Z
LOCATION:Localisation Aquabaie  ploufragan
CATEGORIES:Sportif
STATUS:
DESCRIPTION:<p>Competition destinees aux U14 et + realisant les temps
 de la grille de qualification</p>
 
 <p>Prevoir pique-nique pour les
 midis</p>
URL;VALUE=URI:https://www.lannionnatation.com/evenements/2026/06/19/championnat-de-bretagne-ete-u14-et-2441797
END:VEVENT
END:VCALENDAR
